BEGIN:VCALENDAR
VERSION:2.0
PRODID:-//Espace Carat - ECPv6.15.20//NONSGML v1.0//EN
CALSCALE:GREGORIAN
METHOD:PUBLISH
X-ORIGINAL-URL:http://www.espace-carat.fr
X-WR-CALDESC:Évènements pour Espace Carat
REFRESH-INTERVAL;VALUE=DURATION:PT1H
X-Robots-Tag:noindex
X-PUBLISHED-TTL:PT1H
BEGIN:VTIMEZONE
TZID:Europe/Paris
BEGIN:DAYLIGHT
TZOFFSETFROM:+0100
TZOFFSETTO:+0200
TZNAME:CEST
DTSTART:20250330T010000
END:DAYLIGHT
BEGIN:STANDARD
TZOFFSETFROM:+0200
TZOFFSETTO:+0100
TZNAME:CET
DTSTART:20251026T010000
END:STANDARD
BEGIN:DAYLIGHT
TZOFFSETFROM:+0100
TZOFFSETTO:+0200
TZNAME:CEST
DTSTART:20260329T010000
END:DAYLIGHT
BEGIN:STANDARD
TZOFFSETFROM:+0200
TZOFFSETTO:+0100
TZNAME:CET
DTSTART:20261025T010000
END:STANDARD
BEGIN:DAYLIGHT
TZOFFSETFROM:+0100
TZOFFSETTO:+0200
TZNAME:CEST
DTSTART:20270328T010000
END:DAYLIGHT
BEGIN:STANDARD
TZOFFSETFROM:+0200
TZOFFSETTO:+0100
TZNAME:CET
DTSTART:20271031T010000
END:STANDARD
END:VTIMEZONE
BEGIN:VEVENT
DTSTART;TZID=Europe/Paris:20261017T100000
DTEND;TZID=Europe/Paris:20261018T190000
DTSTAMP:20260419T144215
CREATED:20240216T144050Z
LAST-MODIFIED:20260115T153900Z
UID:10000433-1792231200-1792350000@www.espace-carat.fr
SUMMARY:Salon du Mariage // 17 - 18 octobre 2026
DESCRIPTION:35ème SALON DU MARIAGE ET DU PACS d’ANGOULEME 10H à 19H à l’Espace Carat :  \n3000m² dédiés au mariage avec plus de 75 prestataires ! Robes de mariées\, alliances\, fleurs\, costumes\, photographes\, traiteurs\, wedding-planners\, vins\, DJ\, magiciens\, mise en beauté\, coiffeurs\, décorateurs\, dragées\, lieux et matériel de réception\, voitures de luxe… \n3 défilés quotidiens\, vous seront présentés à 11h / 15h / 17h moment idéal pour découvrir les dernières collections de robe\, costumes et accessoires. Futurs mariés\, vous trouverez tous les prestations nécessaires\, pour faire de votre mariage un événement inoubliable. \nRestauration sur place. \nENTRÉE 4€ et 5 000 invitations gratuites à retrouver dans vos commerces.
URL:http://www.espace-carat.fr/evenement/salon-du-mariage-17-18-octobre-2026/
LOCATION:Espace Carat\, 54 avenue Jean Mermoz\, L'ISLE D'ESPAGNAC\, 16340\, France
CATEGORIES:Salon
ATTACH;FMTTYPE=image/png:http://www.espace-carat.fr/wp-content/uploads/2018/07/visuel-a-venir.png
ORGANIZER;CN="Ideoconcept event":MAILTO:salondumariage.charentes@gmail.com
END:VEVENT
END:VCALENDAR