BEGIN:VCALENDAR
VERSION:2.0
PRODID:-//Espace Carat - ECPv6.15.20//NONSGML v1.0//EN
CALSCALE:GREGORIAN
METHOD:PUBLISH
X-ORIGINAL-URL:http://www.espace-carat.fr
X-WR-CALDESC:Évènements pour Espace Carat
REFRESH-INTERVAL;VALUE=DURATION:PT1H
X-Robots-Tag:noindex
X-PUBLISHED-TTL:PT1H
BEGIN:VTIMEZONE
TZID:Europe/Paris
BEGIN:DAYLIGHT
TZOFFSETFROM:+0100
TZOFFSETTO:+0200
TZNAME:CEST
DTSTART:20250330T010000
END:DAYLIGHT
BEGIN:STANDARD
TZOFFSETFROM:+0200
TZOFFSETTO:+0100
TZNAME:CET
DTSTART:20251026T010000
END:STANDARD
BEGIN:DAYLIGHT
TZOFFSETFROM:+0100
TZOFFSETTO:+0200
TZNAME:CEST
DTSTART:20260329T010000
END:DAYLIGHT
BEGIN:STANDARD
TZOFFSETFROM:+0200
TZOFFSETTO:+0100
TZNAME:CET
DTSTART:20261025T010000
END:STANDARD
BEGIN:DAYLIGHT
TZOFFSETFROM:+0100
TZOFFSETTO:+0200
TZNAME:CEST
DTSTART:20270328T010000
END:DAYLIGHT
BEGIN:STANDARD
TZOFFSETFROM:+0200
TZOFFSETTO:+0100
TZNAME:CET
DTSTART:20271031T010000
END:STANDARD
END:VTIMEZONE
BEGIN:VEVENT
DTSTART;TZID=Europe/Paris:20260207T203000
DTEND;TZID=Europe/Paris:20260207T223000
DTSTAMP:20260425T121920
CREATED:20230425T143642Z
LAST-MODIFIED:20241122T143720Z
UID:10000402-1770496200-1770503400@www.espace-carat.fr
SUMMARY:World of Queen // 07 février 2026
DESCRIPTION:« THE WORLD OF QUEEN » ! EN TOURNEE\nOH MY PROD ! Présente : \nTHE WORLD OF QUEEN LE spectacle hommage à FREDDIE MERCURY ! THE WORLD OF QUEEN partage depuis des années l’héritage mythique de Freddie Mercury aux 4 coins de l’Europe. \nUne voix BRILLANTISSIME\, des musiciens de talent\, une nouvelle mise en scène impressionnante faite d’effets spéciaux et pyrotechniques\, font de ce spectacle un moment INOUBLIABLE où le temps s’arrête pour retrouver pendant 2h l’atmosphère des plus grands shows du groupe Queen ! \nAvec la participation exceptionnelle de la soprano Claire LAIRY ou de Fanny Crouet \nSHOW MUST GO ON ! \nAchetez vos billets : \nhttps://www.ticketmaster.fr/fr/manifestation/the-world-of-queen-billet/idmanif/552577
URL:http://www.espace-carat.fr/evenement/world-of-queen-21-novembre-2024/
LOCATION:Espace Carat\, 54 avenue Jean Mermoz\, L'ISLE D'ESPAGNAC\, 16340\, France
CATEGORIES:Concert
ATTACH;FMTTYPE=image/jpeg:http://www.espace-carat.fr/wp-content/uploads/2023/04/2024_AA_SITE-ok.jpg
END:VEVENT
END:VCALENDAR